BEGIN:VCALENDAR
VERSION:2.0
PRODID:-//Tarpon Lodge No. 112 - ECPv6.15.20//NONSGML v1.0//EN
CALSCALE:GREGORIAN
METHOD:PUBLISH
X-WR-CALNAME:Tarpon Lodge No. 112
X-ORIGINAL-URL:https://tarponlodge112.org
X-WR-CALDESC:Events for Tarpon Lodge No. 112
REFRESH-INTERVAL;VALUE=DURATION:PT1H
X-Robots-Tag:noindex
X-PUBLISHED-TTL:PT1H
BEGIN:VTIMEZONE
TZID:America/New_York
BEGIN:DAYLIGHT
TZOFFSETFROM:-0500
TZOFFSETTO:-0400
TZNAME:EDT
DTSTART:20250309T070000
END:DAYLIGHT
BEGIN:STANDARD
TZOFFSETFROM:-0400
TZOFFSETTO:-0500
TZNAME:EST
DTSTART:20251102T060000
END:STANDARD
BEGIN:DAYLIGHT
TZOFFSETFROM:-0500
TZOFFSETTO:-0400
TZNAME:EDT
DTSTART:20260308T070000
END:DAYLIGHT
BEGIN:STANDARD
TZOFFSETFROM:-0400
TZOFFSETTO:-0500
TZNAME:EST
DTSTART:20261101T060000
END:STANDARD
BEGIN:DAYLIGHT
TZOFFSETFROM:-0500
TZOFFSETTO:-0400
TZNAME:EDT
DTSTART:20270314T070000
END:DAYLIGHT
BEGIN:STANDARD
TZOFFSETFROM:-0400
TZOFFSETTO:-0500
TZNAME:EST
DTSTART:20271107T060000
END:STANDARD
END:VTIMEZONE
BEGIN:VEVENT
DTSTART;TZID=America/New_York:20261005T193000
DTEND;TZID=America/New_York:20261005T203000
DTSTAMP:20260419T125733
CREATED:20260120T174719Z
LAST-MODIFIED:20260120T174719Z
UID:1486-1791228600-1791232200@tarponlodge112.org
SUMMARY:Anclote DeMolay
DESCRIPTION:
URL:https://tarponlodge112.org/event/anclote-demolay-73/
LOCATION:Tarpon Lodge No. 112\, 28 N. Ring Street\, Tarpon Springs\, FL\, 34689\, United States
CATEGORIES:DeMolay
END:VEVENT
BEGIN:VEVENT
DTSTART;TZID=America/New_York:20261006T183000
DTEND;TZID=America/New_York:20261006T200000
DTSTAMP:20260419T125733
CREATED:20260120T173133Z
LAST-MODIFIED:20260120T173133Z
UID:1399-1791311400-1791316800@tarponlodge112.org
SUMMARY:Officer Practice
DESCRIPTION:
URL:https://tarponlodge112.org/event/officer-practice-73/
LOCATION:Tarpon Lodge No. 112\, 28 N. Ring Street\, Tarpon Springs\, FL\, 34689\, United States
CATEGORIES:Practice
ORGANIZER;CN="Tarpon Lodge No. 112":MAILTO:info@tarponlodge112.org
END:VEVENT
BEGIN:VEVENT
DTSTART;TZID=America/New_York:20261007T193000
DTEND;TZID=America/New_York:20261007T210000
DTSTAMP:20260419T125734
CREATED:20260120T173419Z
LAST-MODIFIED:20260120T173419Z
UID:1441-1791401400-1791406800@tarponlodge112.org
SUMMARY:York Rite Chapter and Council
DESCRIPTION:
URL:https://tarponlodge112.org/event/york-rite-chapter-and-council-16/
LOCATION:Tarpon Lodge No. 112\, 28 N. Ring Street\, Tarpon Springs\, FL\, 34689\, United States
CATEGORIES:York Rite
END:VEVENT
BEGIN:VEVENT
DTSTART;TZID=America/New_York:20261008T193000
DTEND;TZID=America/New_York:20261008T210000
DTSTAMP:20260419T125734
CREATED:20260120T173338Z
LAST-MODIFIED:20260120T173338Z
UID:1428-1791487800-1791493200@tarponlodge112.org
SUMMARY:Stated Communications
DESCRIPTION:
URL:https://tarponlodge112.org/event/stated-communications-35/
LOCATION:Tarpon Lodge No. 112\, 28 N. Ring Street\, Tarpon Springs\, FL\, 34689\, United States
CATEGORIES:Meeting
ORGANIZER;CN="Tarpon Lodge No. 112":MAILTO:info@tarponlodge112.org
END:VEVENT
BEGIN:VEVENT
DTSTART;TZID=America/New_York:20261012T193000
DTEND;TZID=America/New_York:20261012T203000
DTSTAMP:20260419T125734
CREATED:20260120T174720Z
LAST-MODIFIED:20260120T174720Z
UID:1487-1791833400-1791837000@tarponlodge112.org
SUMMARY:Anclote DeMolay
DESCRIPTION:
URL:https://tarponlodge112.org/event/anclote-demolay-74/
LOCATION:Tarpon Lodge No. 112\, 28 N. Ring Street\, Tarpon Springs\, FL\, 34689\, United States
CATEGORIES:DeMolay
END:VEVENT
BEGIN:VEVENT
DTSTART;TZID=America/New_York:20261013T183000
DTEND;TZID=America/New_York:20261013T200000
DTSTAMP:20260419T125734
CREATED:20260120T173135Z
LAST-MODIFIED:20260120T173135Z
UID:1400-1791916200-1791921600@tarponlodge112.org
SUMMARY:Officer Practice
DESCRIPTION:
URL:https://tarponlodge112.org/event/officer-practice-74/
LOCATION:Tarpon Lodge No. 112\, 28 N. Ring Street\, Tarpon Springs\, FL\, 34689\, United States
CATEGORIES:Practice
ORGANIZER;CN="Tarpon Lodge No. 112":MAILTO:info@tarponlodge112.org
END:VEVENT
BEGIN:VEVENT
DTSTART;TZID=America/New_York:20261019T193000
DTEND;TZID=America/New_York:20261019T203000
DTSTAMP:20260419T125734
CREATED:20260120T174729Z
LAST-MODIFIED:20260120T174729Z
UID:1488-1792438200-1792441800@tarponlodge112.org
SUMMARY:Anclote DeMolay
DESCRIPTION:
URL:https://tarponlodge112.org/event/anclote-demolay-75/
LOCATION:Tarpon Lodge No. 112\, 28 N. Ring Street\, Tarpon Springs\, FL\, 34689\, United States
CATEGORIES:DeMolay
END:VEVENT
BEGIN:VEVENT
DTSTART;TZID=America/New_York:20261020T183000
DTEND;TZID=America/New_York:20261020T200000
DTSTAMP:20260419T125734
CREATED:20260120T173137Z
LAST-MODIFIED:20260120T173137Z
UID:1401-1792521000-1792526400@tarponlodge112.org
SUMMARY:Officer Practice
DESCRIPTION:
URL:https://tarponlodge112.org/event/officer-practice-75/
LOCATION:Tarpon Lodge No. 112\, 28 N. Ring Street\, Tarpon Springs\, FL\, 34689\, United States
CATEGORIES:Practice
ORGANIZER;CN="Tarpon Lodge No. 112":MAILTO:info@tarponlodge112.org
END:VEVENT
BEGIN:VEVENT
DTSTART;TZID=America/New_York:20261022T193000
DTEND;TZID=America/New_York:20261022T210000
DTSTAMP:20260419T125734
CREATED:20260120T173340Z
LAST-MODIFIED:20260120T173340Z
UID:1429-1792697400-1792702800@tarponlodge112.org
SUMMARY:Stated Communications
DESCRIPTION:
URL:https://tarponlodge112.org/event/stated-communications-36/
LOCATION:Tarpon Lodge No. 112\, 28 N. Ring Street\, Tarpon Springs\, FL\, 34689\, United States
CATEGORIES:Meeting
ORGANIZER;CN="Tarpon Lodge No. 112":MAILTO:info@tarponlodge112.org
END:VEVENT
BEGIN:VEVENT
DTSTART;TZID=America/New_York:20261026T193000
DTEND;TZID=America/New_York:20261026T203000
DTSTAMP:20260419T125734
CREATED:20260120T174730Z
LAST-MODIFIED:20260120T174730Z
UID:1489-1793043000-1793046600@tarponlodge112.org
SUMMARY:Anclote DeMolay
DESCRIPTION:
URL:https://tarponlodge112.org/event/anclote-demolay-76/
LOCATION:Tarpon Lodge No. 112\, 28 N. Ring Street\, Tarpon Springs\, FL\, 34689\, United States
CATEGORIES:DeMolay
END:VEVENT
BEGIN:VEVENT
DTSTART;TZID=America/New_York:20261027T183000
DTEND;TZID=America/New_York:20261027T200000
DTSTAMP:20260419T125734
CREATED:20260120T173138Z
LAST-MODIFIED:20260120T173138Z
UID:1402-1793125800-1793131200@tarponlodge112.org
SUMMARY:Officer Practice
DESCRIPTION:
URL:https://tarponlodge112.org/event/officer-practice-76/
LOCATION:Tarpon Lodge No. 112\, 28 N. Ring Street\, Tarpon Springs\, FL\, 34689\, United States
CATEGORIES:Practice
ORGANIZER;CN="Tarpon Lodge No. 112":MAILTO:info@tarponlodge112.org
END:VEVENT
BEGIN:VEVENT
DTSTART;TZID=America/New_York:20261028T193000
DTEND;TZID=America/New_York:20261028T210000
DTSTAMP:20260419T125734
CREATED:20260120T173818Z
LAST-MODIFIED:20260120T173818Z
UID:1451-1793215800-1793221200@tarponlodge112.org
SUMMARY:York Rite Commandery
DESCRIPTION:
URL:https://tarponlodge112.org/event/york-rite-commandery-18/
LOCATION:Tarpon Lodge No. 112\, 28 N. Ring Street\, Tarpon Springs\, FL\, 34689\, United States
CATEGORIES:York Rite
END:VEVENT
END:VCALENDAR