BEGIN:VCALENDAR
VERSION:2.0
PRODID:-//Tarpon Lodge No. 112 - ECPv6.15.20//NONSGML v1.0//EN
CALSCALE:GREGORIAN
METHOD:PUBLISH
X-WR-CALNAME:Tarpon Lodge No. 112
X-ORIGINAL-URL:https://tarponlodge112.org
X-WR-CALDESC:Events for Tarpon Lodge No. 112
REFRESH-INTERVAL;VALUE=DURATION:PT1H
X-Robots-Tag:noindex
X-PUBLISHED-TTL:PT1H
BEGIN:VTIMEZONE
TZID:America/New_York
BEGIN:DAYLIGHT
TZOFFSETFROM:-0500
TZOFFSETTO:-0400
TZNAME:EDT
DTSTART:20240310T070000
END:DAYLIGHT
BEGIN:STANDARD
TZOFFSETFROM:-0400
TZOFFSETTO:-0500
TZNAME:EST
DTSTART:20241103T060000
END:STANDARD
BEGIN:DAYLIGHT
TZOFFSETFROM:-0500
TZOFFSETTO:-0400
TZNAME:EDT
DTSTART:20250309T070000
END:DAYLIGHT
BEGIN:STANDARD
TZOFFSETFROM:-0400
TZOFFSETTO:-0500
TZNAME:EST
DTSTART:20251102T060000
END:STANDARD
BEGIN:DAYLIGHT
TZOFFSETFROM:-0500
TZOFFSETTO:-0400
TZNAME:EDT
DTSTART:20260308T070000
END:DAYLIGHT
BEGIN:STANDARD
TZOFFSETFROM:-0400
TZOFFSETTO:-0500
TZNAME:EST
DTSTART:20261101T060000
END:STANDARD
END:VTIMEZONE
BEGIN:VEVENT
DTSTART;TZID=America/New_York:20251202T183000
DTEND;TZID=America/New_York:20251202T200000
DTSTAMP:20260420T043411
CREATED:20250114T003734Z
LAST-MODIFIED:20250114T003734Z
UID:857-1764700200-1764705600@tarponlodge112.org
SUMMARY:Officer Practice
DESCRIPTION:
URL:https://tarponlodge112.org/event/officer-practice-68/
LOCATION:Tarpon Lodge No. 112\, 28 N. Ring Street\, Tarpon Springs\, FL\, 34689\, United States
CATEGORIES:Practice
ORGANIZER;CN="Tarpon Lodge No. 112":MAILTO:info@tarponlodge112.org
END:VEVENT
BEGIN:VEVENT
DTSTART;TZID=America/New_York:20251209T183000
DTEND;TZID=America/New_York:20251209T200000
DTSTAMP:20260420T043411
CREATED:20250114T003734Z
LAST-MODIFIED:20250114T003734Z
UID:858-1765305000-1765310400@tarponlodge112.org
SUMMARY:Officer Practice
DESCRIPTION:
URL:https://tarponlodge112.org/event/officer-practice-69/
LOCATION:Tarpon Lodge No. 112\, 28 N. Ring Street\, Tarpon Springs\, FL\, 34689\, United States
CATEGORIES:Practice
ORGANIZER;CN="Tarpon Lodge No. 112":MAILTO:info@tarponlodge112.org
END:VEVENT
BEGIN:VEVENT
DTSTART;TZID=America/New_York:20251216T183000
DTEND;TZID=America/New_York:20251216T200000
DTSTAMP:20260420T043411
CREATED:20250114T003755Z
LAST-MODIFIED:20250114T003755Z
UID:859-1765909800-1765915200@tarponlodge112.org
SUMMARY:Officer Practice
DESCRIPTION:
URL:https://tarponlodge112.org/event/officer-practice-70/
LOCATION:Tarpon Lodge No. 112\, 28 N. Ring Street\, Tarpon Springs\, FL\, 34689\, United States
CATEGORIES:Practice
ORGANIZER;CN="Tarpon Lodge No. 112":MAILTO:info@tarponlodge112.org
END:VEVENT
BEGIN:VEVENT
DTSTART;TZID=America/New_York:20251223T183000
DTEND;TZID=America/New_York:20251223T200000
DTSTAMP:20260420T043411
CREATED:20250114T003755Z
LAST-MODIFIED:20250114T003755Z
UID:860-1766514600-1766520000@tarponlodge112.org
SUMMARY:Officer Practice
DESCRIPTION:
URL:https://tarponlodge112.org/event/officer-practice-71/
LOCATION:Tarpon Lodge No. 112\, 28 N. Ring Street\, Tarpon Springs\, FL\, 34689\, United States
CATEGORIES:Practice
ORGANIZER;CN="Tarpon Lodge No. 112":MAILTO:info@tarponlodge112.org
END:VEVENT
BEGIN:VEVENT
DTSTART;TZID=America/New_York:20251230T183000
DTEND;TZID=America/New_York:20251230T200000
DTSTAMP:20260420T043411
CREATED:20250114T003756Z
LAST-MODIFIED:20250114T003756Z
UID:861-1767119400-1767124800@tarponlodge112.org
SUMMARY:Officer Practice
DESCRIPTION:
URL:https://tarponlodge112.org/event/officer-practice-72/
LOCATION:Tarpon Lodge No. 112\, 28 N. Ring Street\, Tarpon Springs\, FL\, 34689\, United States
CATEGORIES:Practice
ORGANIZER;CN="Tarpon Lodge No. 112":MAILTO:info@tarponlodge112.org
END:VEVENT
END:VCALENDAR