BEGIN:VCALENDAR
VERSION:2.0
PRODID:-//Tarpon Lodge No. 112 - ECPv6.15.20//NONSGML v1.0//EN
CALSCALE:GREGORIAN
METHOD:PUBLISH
X-ORIGINAL-URL:https://tarponlodge112.org
X-WR-CALDESC:Events for Tarpon Lodge No. 112
REFRESH-INTERVAL;VALUE=DURATION:PT1H
X-Robots-Tag:noindex
X-PUBLISHED-TTL:PT1H
BEGIN:VTIMEZONE
TZID:America/New_York
BEGIN:DAYLIGHT
TZOFFSETFROM:-0500
TZOFFSETTO:-0400
TZNAME:EDT
DTSTART:20240310T070000
END:DAYLIGHT
BEGIN:STANDARD
TZOFFSETFROM:-0400
TZOFFSETTO:-0500
TZNAME:EST
DTSTART:20241103T060000
END:STANDARD
BEGIN:DAYLIGHT
TZOFFSETFROM:-0500
TZOFFSETTO:-0400
TZNAME:EDT
DTSTART:20250309T070000
END:DAYLIGHT
BEGIN:STANDARD
TZOFFSETFROM:-0400
TZOFFSETTO:-0500
TZNAME:EST
DTSTART:20251102T060000
END:STANDARD
BEGIN:DAYLIGHT
TZOFFSETFROM:-0500
TZOFFSETTO:-0400
TZNAME:EDT
DTSTART:20260308T070000
END:DAYLIGHT
BEGIN:STANDARD
TZOFFSETFROM:-0400
TZOFFSETTO:-0500
TZNAME:EST
DTSTART:20261101T060000
END:STANDARD
END:VTIMEZONE
BEGIN:VEVENT
DTSTART;TZID=America/New_York:20250317T193000
DTEND;TZID=America/New_York:20250317T203000
DTSTAMP:20260424T000229
CREATED:20250114T000140Z
LAST-MODIFIED:20250114T000140Z
UID:755-1742239800-1742243400@tarponlodge112.org
SUMMARY:Anclote DeMolay
DESCRIPTION:
URL:https://tarponlodge112.org/event/anclote-demolay-13/
LOCATION:Tarpon Lodge No. 112\, 28 N. Ring Street\, Tarpon Springs\, FL\, 34689\, United States
CATEGORIES:DeMolay
END:VEVENT
BEGIN:VEVENT
DTSTART;TZID=America/New_York:20250310T193000
DTEND;TZID=America/New_York:20250310T203000
DTSTAMP:20260424T000229
CREATED:20250113T215321Z
LAST-MODIFIED:20250113T215739Z
UID:563-1741635000-1741638600@tarponlodge112.org
SUMMARY:Anclote DeMolay
DESCRIPTION:
URL:https://tarponlodge112.org/event/anclote-demolay-9/
LOCATION:Tarpon Lodge No. 112\, 28 N. Ring Street\, Tarpon Springs\, FL\, 34689\, United States
CATEGORIES:DeMolay
END:VEVENT
BEGIN:VEVENT
DTSTART;TZID=America/New_York:20250303T193000
DTEND;TZID=America/New_York:20250303T203000
DTSTAMP:20260424T000229
CREATED:20250113T215309Z
LAST-MODIFIED:20250113T215745Z
UID:562-1741030200-1741033800@tarponlodge112.org
SUMMARY:Anclote DeMolay
DESCRIPTION:
URL:https://tarponlodge112.org/event/anclote-demolay-8/
LOCATION:Tarpon Lodge No. 112\, 28 N. Ring Street\, Tarpon Springs\, FL\, 34689\, United States
CATEGORIES:DeMolay
END:VEVENT
BEGIN:VEVENT
DTSTART;TZID=America/New_York:20250224T193000
DTEND;TZID=America/New_York:20250224T203000
DTSTAMP:20260424T000229
CREATED:20250113T215300Z
LAST-MODIFIED:20250113T215731Z
UID:561-1740425400-1740429000@tarponlodge112.org
SUMMARY:Anclote DeMolay
DESCRIPTION:
URL:https://tarponlodge112.org/event/anclote-demolay-7/
LOCATION:Tarpon Lodge No. 112\, 28 N. Ring Street\, Tarpon Springs\, FL\, 34689\, United States
CATEGORIES:DeMolay
END:VEVENT
BEGIN:VEVENT
DTSTART;TZID=America/New_York:20250217T193000
DTEND;TZID=America/New_York:20250217T203000
DTSTAMP:20260424T000229
CREATED:20250113T215254Z
LAST-MODIFIED:20250113T215717Z
UID:560-1739820600-1739824200@tarponlodge112.org
SUMMARY:Anclote DeMolay
DESCRIPTION:
URL:https://tarponlodge112.org/event/anclote-demolay-6/
LOCATION:Tarpon Lodge No. 112\, 28 N. Ring Street\, Tarpon Springs\, FL\, 34689\, United States
CATEGORIES:DeMolay
END:VEVENT
BEGIN:VEVENT
DTSTART;TZID=America/New_York:20250210T193000
DTEND;TZID=America/New_York:20250210T203000
DTSTAMP:20260424T000229
CREATED:20250113T215249Z
LAST-MODIFIED:20250113T215709Z
UID:559-1739215800-1739219400@tarponlodge112.org
SUMMARY:Anclote DeMolay
DESCRIPTION:
URL:https://tarponlodge112.org/event/anclote-demolay-5/
LOCATION:Tarpon Lodge No. 112\, 28 N. Ring Street\, Tarpon Springs\, FL\, 34689\, United States
CATEGORIES:DeMolay
END:VEVENT
BEGIN:VEVENT
DTSTART;TZID=America/New_York:20250203T193000
DTEND;TZID=America/New_York:20250203T203000
DTSTAMP:20260424T000229
CREATED:20250113T215242Z
LAST-MODIFIED:20250113T215703Z
UID:558-1738611000-1738614600@tarponlodge112.org
SUMMARY:Anclote DeMolay
DESCRIPTION:
URL:https://tarponlodge112.org/event/anclote-demolay-4/
LOCATION:Tarpon Lodge No. 112\, 28 N. Ring Street\, Tarpon Springs\, FL\, 34689\, United States
CATEGORIES:DeMolay
END:VEVENT
BEGIN:VEVENT
DTSTART;TZID=America/New_York:20250127T193000
DTEND;TZID=America/New_York:20250127T203000
DTSTAMP:20260424T000229
CREATED:20250113T215235Z
LAST-MODIFIED:20250113T215642Z
UID:557-1738006200-1738009800@tarponlodge112.org
SUMMARY:Anclote DeMolay
DESCRIPTION:
URL:https://tarponlodge112.org/event/anclote-demolay-3/
LOCATION:Tarpon Lodge No. 112\, 28 N. Ring Street\, Tarpon Springs\, FL\, 34689\, United States
CATEGORIES:DeMolay
END:VEVENT
BEGIN:VEVENT
DTSTART;TZID=America/New_York:20250120T193000
DTEND;TZID=America/New_York:20250120T203000
DTSTAMP:20260424T000229
CREATED:20250113T215229Z
LAST-MODIFIED:20250113T215655Z
UID:556-1737401400-1737405000@tarponlodge112.org
SUMMARY:Anclote DeMolay
DESCRIPTION:
URL:https://tarponlodge112.org/event/anclote-demolay-2/
LOCATION:Tarpon Lodge No. 112\, 28 N. Ring Street\, Tarpon Springs\, FL\, 34689\, United States
CATEGORIES:DeMolay
END:VEVENT
BEGIN:VEVENT
DTSTART;TZID=America/New_York:20250113T193000
DTEND;TZID=America/New_York:20250113T203000
DTSTAMP:20260424T000229
CREATED:20250113T210014Z
LAST-MODIFIED:20250113T215648Z
UID:541-1736796600-1736800200@tarponlodge112.org
SUMMARY:Anclote DeMolay
DESCRIPTION:
URL:https://tarponlodge112.org/event/anclote-demolay/
LOCATION:Tarpon Lodge No. 112\, 28 N. Ring Street\, Tarpon Springs\, FL\, 34689\, United States
CATEGORIES:DeMolay
END:VEVENT
END:VCALENDAR